BEGIN:VCALENDAR
VERSION:2.0
PRODID:-//Michael Pauser - ECPv6.0.11//NONSGML v1.0//EN
CALSCALE:GREGORIAN
METHOD:PUBLISH
X-ORIGINAL-URL:https://www.michael-pauser.de
X-WR-CALDESC:Veranstaltungen für Michael Pauser
REFRESH-INTERVAL;VALUE=DURATION:PT1H
X-Robots-Tag:noindex
X-PUBLISHED-TTL:PT1H
BEGIN:VTIMEZONE
TZID:Europe/Berlin
BEGIN:DAYLIGHT
TZOFFSETFROM:+0100
TZOFFSETTO:+0200
TZNAME:CEST
DTSTART:20260329T010000
END:DAYLIGHT
BEGIN:STANDARD
TZOFFSETFROM:+0200
TZOFFSETTO:+0100
TZNAME:CET
DTSTART:20261025T010000
END:STANDARD
END:VTIMEZONE
BEGIN:VEVENT
DTSTART;TZID=Europe/Berlin:20260919T190000
DTEND;TZID=Europe/Berlin:20260919T213000
DTSTAMP:20260423T132500
CREATED:20260104T220917Z
LAST-MODIFIED:20260104T220917Z
UID:2685-1789844400-1789853400@www.michael-pauser.de
SUMMARY:Ein Dorf singt: „Stoßt an!“ - Konzert 1
DESCRIPTION:Ein Dorf singt: „Stoßt an!“\nMusikalische Jubiläen von Oper bis Rock \nMitwirkende: \n\nGesangverein zu Langenbernsdorf e. V. (Einstudierung: Thomas Lohri)\nSchulchor des Gymnasiums „Alexander von Humboldt“ Werdau (Einstudierung: Andrea Gralla\, Thomas Lohri\, Michael Pauser)\nVogtland Philharmonie Greiz/Reichenbach\nAndrea Chudak / Sopran\nVictor Campos Leal / Tenor\nMichael Pauser / Dirigent\n\nErleben Sie zeitlose Klassiker wie „Nessun dorma“ aus Turandot von Giacomo Puccini\, „The Phantom of the Opera“ aus dem gleichnamigen Musical von Andrew Lloyd Webber oder das bekannte Hallelujah“ von Leonard Cohen\, „Engel“ von Rammstein u. v. a. m. Feiern Sie gemeinsam mit uns musikalische Jubiläen aus drei Jahrhunderten – und unser eigenes.
URL:https://www.michael-pauser.de/termine/ein-dorf-singt-stosst-an-konzert-1/
LOCATION:Landgasthof „Weißes Roß“ Langenbernsdorf\, Schulstraße 1\, Langenbernsdorf\, Sachsen\, 08428\, Deutschland
CATEGORIES:Arrangeur,Dirigent,Konzert,Moderator
ATTACH;FMTTYPE=image/jpeg:https://www.michael-pauser.de/wp-content/uploads/2026/01/EinDorfSingt-55-web.jpg
END:VEVENT
END:VCALENDAR